BEGIN:VCALENDAR
VERSION:2.0
PRODID:-//Cercle des Nageurs de Pléneuf-Val André - ECPv5.6.0//NONSGML v1.0//EN
CALSCALE:GREGORIAN
METHOD:PUBLISH
X-WR-CALNAME:Cercle des Nageurs de Pléneuf-Val André
X-ORIGINAL-URL:https://cdn-pva.org
X-WR-CALDESC:évènements pour Cercle des Nageurs de Pléneuf-Val André
BEGIN:VTIMEZONE
TZID:Europe/Paris
BEGIN:DAYLIGHT
TZOFFSETFROM:+0100
TZOFFSETTO:+0200
TZNAME:CEST
DTSTART:20170326T010000
END:DAYLIGHT
BEGIN:STANDARD
TZOFFSETFROM:+0200
TZOFFSETTO:+0100
TZNAME:CET
DTSTART:20171029T010000
END:STANDARD
END:VTIMEZONE
BEGIN:VEVENT
DTSTART;VALUE=DATE:20170909
DTEND;VALUE=DATE:20170910
DTSTAMP:20260419T182912
CREATED:20170821T145427Z
LAST-MODIFIED:20170821T145858Z
UID:96-1504915200-1505001599@cdn-pva.org
SUMMARY:Inscriptions 2017-2018\, forum des associations
DESCRIPTION:
URL:https://cdn-pva.org/?tribe_events=inscriptions-2017-2018-forum-des-associations
LOCATION:salle du guemadeuc\, pleneuf
END:VEVENT
END:VCALENDAR